BEGIN:VCALENDAR
VERSION:2.0
PRODID:-//Volt Europa//Events//EN
CALSCALE:GREGORIAN
METHOD:PUBLISH
BEGIN:VEVENT
UID:nationalen-neujahrsempfang-2026-von-volt-belgien-1768586400@voltbelgium
 .org
DTSTAMP:20260423T120536Z
DTSTART;TZID=Europe/Amsterdam:20260116T190000
DTEND;TZID=Europe/Amsterdam:20260116T223000
SUMMARY:Nationalen Neujahrsempfang 2026 von Volt Belgien
DESCRIPTION:✨ Nach dem großen Erfolg des letztjährigen Neujahrsempfangs
  in Gent freut sich der Vorstand von Volt Belgium\, euch zum  Nationalen Ne
 ujahrsempfang 2026 von Volt Belgien  einzuladen — dieses Mal in  Mechelen
  \, nur wenige Gehminuten vom Bahnhof entfernt! 🚆 Seid am  Freitag\, den
  16. Januar \, dabei und erlebt einen inspirierenden Abend voller Möglichk
 eiten\,  mit Mitgliedern aus dem ganzen Land in Kontakt zu treten \, Ideen 
 auszutauschen\, unsere Erfolge zu feiern und gemeinsam mit frischer Energie
  und
LOCATION:Reiscafé "ViaVia" von Mechelen\, Zandpoortvest 50\, 2800 Mechelen
URL:https://voltbelgien.org/events/nationalen-neujahrsempfang-2026-von-volt
 -belgien
END:VEVENT
END:VCALENDAR
