BEGIN:VCALENDAR
VERSION:2.0
PRODID:-//Volt Europa//Events//EN
CALSCALE:GREGORIAN
METHOD:PUBLISH
BEGIN:VEVENT
UID:drink-talk-integration-in-europa-und-tervuren-1727976600@voltbelgium.or
 g
DTSTAMP:20260423T172411Z
DTSTART;TZID=Europe/Amsterdam:20241003T193000
DTEND;TZID=Europe/Amsterdam:20241003T230000
SUMMARY:Drink/Talk: Integration in Europa und Tervuren...
DESCRIPTION:Organisatoren: Tervuren Union und Volt Tervuren. Keynote/Panel:
  Die Europaabgeordnete Anna Strolenberg wird ebenfalls eine kurze Grundsatz
 rede halten. Bevor sie im Juli 2024 in das Europäische Parlament gewählt 
 wurde\, arbeitete sie für das niederländische Flüchtlingsnetzwerk. Podiu
 m: Dr. Mamy Rafamantanana (Tervuren) Podium: Claudia Zapata (Tervuren) Glob
 ale Mobilität/Expats Podium: Tracey D'Afters (Tervuren) Kommunikationsstra
 tegin Moderator: Dafydd ab Iago (Tervuren)\, Journalist Tervuren hat s
LOCATION:Zaal De Berk\, Zevenster\, Tervuren
URL:https://voltbelgien.org/events/drink-talk-integration-in-europa-und-ter
 vuren
END:VEVENT
END:VCALENDAR
