BEGIN:VCALENDAR
VERSION:2.0
PRODID:-//Volt Europa//Events//EN
CALSCALE:GREGORIAN
METHOD:PUBLISH
BEGIN:VEVENT
UID:demonstration-3-jahre-krieg-in-der-ukraine-1740315600@voltbelgium.org
DTSTAMP:20260423T121029Z
DTSTART;TZID=Europe/Amsterdam:20250223T140000
DTEND;TZID=Europe/Amsterdam:20250223T190000
SUMMARY:Demonstration: 3 Jahre Krieg in der Ukraine
DESCRIPTION:Volt Belgien nimmt an einer Demonstration teil\, um drei Jahre 
 des groß angelegten Krieges in der Ukraine zu markieren. Unsere Partei mö
 chte in diesem entscheidenden Moment ihre unmissverständliche Unterstützu
 ng für die Ukraine zeigen. Die Kundgebung\, organisiert von der NGO Promot
 e Ukraine\, findet am 23.02. um 14:00 Uhr auf der Place de l'Albertine in B
 rüssel statt.
LOCATION:Place de l'Albertine\, Brüssel
URL:https://voltbelgien.org/events/demonstration-3-jahre-krieg-in-der-ukrai
 ne
END:VEVENT
END:VCALENDAR
