BEGIN:VCALENDAR
VERSION:2.0
PRODID:-//Volt Europa//Events//EN
CALSCALE:GREGORIAN
METHOD:PUBLISH
BEGIN:VEVENT
UID:wijn-en-kaas-avond-van-volt-leuven-nl-1757700000@voltbelgium.org
DTSTAMP:20260423T115436Z
DTSTART;TZID=Europe/Amsterdam:20250912T200000
DTEND;TZID=Europe/Amsterdam:20250912T230000
SUMMARY:WIJN EN KAAS AVOND van VOLT LEUVEN [NL]
DESCRIPTION:Volt Leuven nodigt je uit op vrijdag 12 september 2025  voor ee
 n ontspannen wijn- en kaasavond. Een ideale gelegenheid om kennis te maken 
 met onze lokale community\, ideeën uit te wisselen en gewoon te genieten v
 an een fijne sfeer. 📍  Locatie:  wordt binnenkort bevestigd (in Leuven) 
 🕖  Datum:  12 september 2025 💬 Iedereen is welkom – of je nu Volt-l
 id bent of gewoon nieuwsgierig! Inschrijvingen zijn nu open:  https://form.
 jotform.com/251832656001046
LOCATION:Leuven
URL:https://voltbelgium.org/events/wijn-en-kaas-avond-van-volt-leuven-nl
END:VEVENT
END:VCALENDAR
