BEGIN:VCALENDAR
VERSION:2.0
PRODID:-//Volt Europa//Events//EN
CALSCALE:GREGORIAN
METHOD:PUBLISH
BEGIN:VEVENT
UID:venez-rencontrer-volt-europa-fr-1758794400@voltbelgium.org
DTSTAMP:20260423T115053Z
DTSTART;TZID=Europe/Amsterdam:20250925T120000
DTEND;TZID=Europe/Amsterdam:20250925T164500
SUMMARY:🇪🇺🇧🇪 Venez rencontrer Volt Europa [FR]
DESCRIPTION:🌍 Volt Europa débarque sur la Place de l'Université ! 🇪
 🇺 Nous sommes Volt Europa\, un nouveau parti politique pan-européen éc
 ologiste\, social-libéral et progressiste\, créé en 2017 et actif dans t
 ous les pays de l’UE et quelques autres pays européens. Nous avons quelq
 ues centaines d'élues et élus du niveau communal au niveau européen\, au
 x quatre coins du continent – de Chypre au Portugal\, en passant par la R
 oumanie\, l'Allemagne\, les Pays-Bas... et\, tout récemment\, la Belgique 
 (à Tervuren). Nous es
LOCATION:Louvain-la-Neuve\, Place de l'Université
URL:https://voltbelgien.org/events/venez-rencontrer-volt-europa-fr
END:VEVENT
END:VCALENDAR
