BEGIN:VCALENDAR
VERSION:2.0
PRODID:-//Volt Europa//Events//EN
CALSCALE:GREGORIAN
METHOD:PUBLISH
BEGIN:VEVENT
UID:ukraine-wohltaetigkeitskonzert-1740078000@voltbelgium.org
DTSTAMP:20260423T181021Z
DTSTART;TZID=Europe/Amsterdam:20250220T200000
DTEND;TZID=Europe/Amsterdam:20250220T223000
SUMMARY:Ukraine Wohltätigkeitskonzert
DESCRIPTION:Zeigen wir unsere Solidarität mit der Ukraine! Ein Benefizkonz
 ert findet in der prachtvollen Kirche am Sablon am Donnerstag\, den 20. Feb
 ruar\, um 20 Uhr statt. Alle Einnahmen gehen an ein mobiles Krankenhaus in 
 der Ukraine. Informationen von  BRIMA The Brussels International Academy of
  Music (BR.I.M.A.) with the support of the Embassy of Ukraine in the Kingdo
 m of Belgium\, Mission of Ukraine to the European Union invite you to a cha
 rity concert dedicated to the commemoration of the victims of the 
LOCATION:Rue des Sablons\, 1000 Brussel
URL:https://voltbelgien.org/events/ukraine-wohltaetigkeitskonzert
END:VEVENT
END:VCALENDAR
