BEGIN:VCALENDAR
VERSION:2.0
PRODID:-//Volt Europa//Events//EN
CALSCALE:GREGORIAN
METHOD:PUBLISH
BEGIN:VEVENT
UID:politieke-babbel-levenslang-leren-1776358800@voltbelgium.org
DTSTAMP:20260426T011453Z
DTSTART;TZID=Europe/Amsterdam:20260416T190000
DTEND;TZID=Europe/Amsterdam:20260416T220000
SUMMARY:Politieke Babbel: Levenslang leren
DESCRIPTION:Iedereen is welkom en het evenement is kosteloos. Volt Oost-Vla
 anderen nodigt je uit voor de politieke babbel: Levenslang leren We gaan in
  gesprek over wat vandaag je opties zijn nadat je het middelbaar hebt afger
 ond. Na een korte presentatie duiken we meteen in een open discussie met pr
 ikkelende stellingen. Geen saaie monoloog\, wel een echt gesprek waar jouw 
 mening telt! Kom meepraten over de toekomst van jouw onderwijs. Iedereen we
 lkom! 🗣️ Wat: Politieke Babbel: Levenslang leren 🗓️ Wanneer: Do
LOCATION:Café Monopole Kon. Elisabethlaan 65\, 9000 Gent
URL:https://voltbelgie.org/oost-vlaanderen/agenda/politieke-babbel-levensla
 ng-leren
END:VEVENT
END:VCALENDAR
