BEGIN:VCALENDAR
VERSION:2.0
PRODID:-//Volt Europa//Events//EN
CALSCALE:GREGORIAN
METHOD:PUBLISH
BEGIN:VEVENT
UID:not-all-quiet-on-the-eastern-front-europa-vereint-sich-gegen-schikanier
 er-und-den-hybriden-weltkrieg-1740396600@voltbelgium.org
DTSTAMP:20260423T190402Z
DTSTART;TZID=Europe/Amsterdam:20250224T123000
DTEND;TZID=Europe/Amsterdam:20250224T140000
SUMMARY:"Not all quiet on the Eastern front" - Europa vereint sich gegen Sc
 hikanierer und den hybriden Weltkrieg
DESCRIPTION:Es ist drei Jahre her\, dass Putins russische Truppen massiv in
  die Ukraine einmarschiert sind und damit den totalen Krieg nach 80 Jahren 
 nach Europa zurÃ¼ckgebracht haben. Alliance4Europe \,  Volt Belgien \,  Pro
 moteUkraine  und  GRASPE   laden Sie ein\, auf dem â€žunserenâ€œ Place Lux 
 zu demonstrieren \, um zu zeigen\, dass die Beamten der EU-Institutionen â€
 ” ursprÃ¼nglich auch gegrÃ¼ndet\, um den Frieden auf unserem Kontinent zu w
 ahren â€” zusammen mit vielen belgischen Einwohnern  hinter den BÃ¼rgern de
 r von 
LOCATION:Place du Luxembourg\, 1050 Elsene
URL:https://voltbelgien.org/events/not-all-quiet-on-the-eastern-front-europ
 a-vereint-sich-gegen-schikanierer-und-den-hybriden-weltkrieg
END:VEVENT
END:VCALENDAR
