BEGIN:VCALENDAR
VERSION:2.0
PRODID:-//Volt Europa//Events//EN
CALSCALE:GREGORIAN
METHOD:PUBLISH
BEGIN:VEVENT
UID:meet-greet-in-brussel-mit-gasten-aus-limburg-1745254800@voltbelgium.org
DTSTAMP:20260423T120524Z
DTSTART;TZID=Europe/Amsterdam:20250421T190000
DTEND;TZID=Europe/Amsterdam:20250421T210000
SUMMARY:Meet & Greet in Brüssel mit Gästen aus Limburg
DESCRIPTION:Es ist Zeit für ein weiteres Meet & Greet im Herzen von Brüss
 el! Im oberen Stockwerk des Café Merlo im Dansaert-Viertel erwartet euch e
 in gemütlicher Ort\, um den Frühling willkommen zu heißen. Kommt vorbei\
 , trinkt etwas und diskutiert über Politik mit engagierten Voltern – und
  stellt dem Team eure innovativen Ideen für die Demokratie vor. Diesen Mon
 at freuen wir uns besonders\, eine Delegation von Volt Niederlande aus Limb
 urg in Brüssel zu begrüßen. Bringt eure Freund:innen\, Kolleg:innen und 
 Fami
LOCATION:Café Merlo\, Quai aux briques 80\, Bruxelles 1000
URL:https://voltbelgien.org/events/meet-greet-in-brussel-mit-gasten-aus-lim
 burg
END:VEVENT
END:VCALENDAR
