BEGIN:VCALENDAR
VERSION:2.0
PRODID:-//Volt Europa//Events//EN
CALSCALE:GREGORIAN
METHOD:PUBLISH
BEGIN:VEVENT
UID:meet-greet-gent-nl-1731522600@voltbelgium.org
DTSTAMP:20260423T115002Z
DTSTART;TZID=Europe/Amsterdam:20241113T193000
DTEND;TZID=Europe/Amsterdam:20241113T233000
SUMMARY:Meet & Greet Gent [NL]
DESCRIPTION:Wil je meer weten over Volt Europa\, België\, of hoe Volt zich
  engageert op lokaal niveau? Ontmoet de leden van Volt Oost- en West-Vlaand
 eren op dit laagdrempelige evenement. Drink samen met ons een cola of pint 
 en treed in overleg over onze toekomstplannen.
LOCATION:Eltòn\, Kon. Maria Hendrikaplein 36\, 9000 Gent
URL:https://voltbelgium.org/events/meet-greet-gent-nl
END:VEVENT
END:VCALENDAR
