BEGIN:VCALENDAR
VERSION:2.0
PRODID:-//Volt Europa//Events//EN
CALSCALE:GREGORIAN
METHOD:PUBLISH
BEGIN:VEVENT
UID:meet-greet-gent-de-1-1737568800@voltbelgium.org
DTSTAMP:20260423T114853Z
DTSTART;TZID=Europe/Amsterdam:20250122T190000
DTEND;TZID=Europe/Amsterdam:20250122T220000
SUMMARY:Politiek Café: Mobiliteit Gent [NL]
DESCRIPTION:We werken verder aan de agenda voor 2025 en starten het jaar me
 t discussie rond ons beleid omtrent mobiliteit in Gent. Wil je lokaal een v
 erschil maken met Volt en mee nadenken over het beleid? Of wil je eerst mee
 r ontdekken over Volt Europa of Volt België? Dit is jouw kans om kennis te
  maken! Kom gezellig kennismaken met de leden van Volt Oost- en West-Vlaand
 eren! Drink samen met ons een pintje of een cola en ontdek hoe wij naar de 
 toekomst kijken.
LOCATION:Eltòn\, Kon. Maria Hendrikaplein 36\, 9000 Gent
URL:https://voltbelgien.org/events/meet-greet-gent-de-1
END:VEVENT
END:VCALENDAR
