BEGIN:VCALENDAR
VERSION:2.0
PRODID:-//Volt Europa//Events//EN
CALSCALE:GREGORIAN
METHOD:PUBLISH
BEGIN:VEVENT
UID:meet-greet-antwerpen-nl-1764270000@voltbelgium.org
DTSTAMP:20260423T114613Z
DTSTART;TZID=Europe/Amsterdam:20251127T200000
DTEND;TZID=Europe/Amsterdam:20251127T220000
SUMMARY:Meet & Greet Antwerpen [NL]
DESCRIPTION:🟣 Wil je meer weten over de activiteiten van Volt in Antwerp
 en? 🟣 Wil je een gezellig praatje maken over politiek op lokaal niveau? 
 🟣 Wil je bijdragen aan een duurzamere toekomst? 💪 Wij hebben 5 jaar o
 m het tij te keren en wij zullen deze tijd zeker goed gebruiken! Iedereen i
 s welkom op onze meet & greets!
LOCATION:'t Groen Hart\, Groenplaats 23\, 2000 Antwerpen
URL:https://voltbelgium.org/events/meet-greet-antwerpen-nl
END:VEVENT
END:VCALENDAR
