BEGIN:VCALENDAR
VERSION:2.0
PRODID:-//Volt Europa//Events//EN
CALSCALE:GREGORIAN
METHOD:PUBLISH
BEGIN:VEVENT
UID:meet-greet-antwerpen-de-20260211-1-1771871400@voltbelgium.org
DTSTAMP:20260425T131004Z
DTSTART;TZID=Europe/Amsterdam:20260223T193000
DTEND;TZID=Europe/Amsterdam:20260223T213000
SUMMARY:Meet & Greet Mechelen [NL]
DESCRIPTION:Het is tijd om elkaar terug te zien. Wij komen samen om gezelli
 g iets te drinken en over politiek op het lokale niveau te bespreken. Wij h
 ebben enkele jaren om het tij te keren en wij zullen deze tijd zeker goed g
 ebruiken 💪 Iedereen is welkom!
LOCATION:Café de Gouden Vis\, Nauwstraat 7\, Mechelen 2800
URL:https://voltbelgien.org/events/meet-greet-antwerpen-de-20260211-1
END:VEVENT
END:VCALENDAR
