BEGIN:VCALENDAR
VERSION:2.0
PRODID:-//Volt Europa//Events//EN
CALSCALE:GREGORIAN
METHOD:PUBLISH
BEGIN:VEVENT
UID:mayerling-a-purple-hands-project-austria-1754204400@voltbelgium.org
DTSTAMP:20260423T115141Z
DTSTART;TZID=Europe/Amsterdam:20250803T090000
DTEND;TZID=Europe/Amsterdam:20250810T180000
SUMMARY:Mayerling (A): Purple Hands project Austria
DESCRIPTION:Cet été\, construisez une maison et un avenir pour les sans-a
 bri en Autriche avec d'autres Volters d'Europe. L'International Building Or
 der (IBO) rassemble des personnes de toute l'Europe autour de projets socia
 ux (de construction). L'IBO des Pays-Bas a prévu une semaine de projet sup
 plémentaire spécialement pour les Volters qui veulent se salir les mains.
  Il s'agit d'une situation gagnant-gagnant : Les Volters de toute l'Europe 
 peuvent se rencontrer et en même temps contribuer à ce beau projet s
LOCATION:Mayerling\, Autriche
URL:https://voltbelgique.org/evenements/mayerling-a-purple-hands-project-au
 stria
END:VEVENT
END:VCALENDAR
