BEGIN:VCALENDAR
VERSION:2.0
PRODID:-//Volt Europa//Events//EN
CALSCALE:GREGORIAN
METHOD:PUBLISH
BEGIN:VEVENT
UID:march-for-europe-1778331600@voltbelgium.org
DTSTAMP:20260421T130831Z
DTSTART;TZID=Europe/Amsterdam:20260509T150000
DTEND;TZID=Europe/Amsterdam:20260509T170000
SUMMARY:March for Europe
DESCRIPTION:Please register so we know how many people to expect. We love E
 urope\, and we celebrate it on  Europe Day  with a march through Ghent!  We
  believe in the enormous potential of a united Europe\, but still see many 
 areas for improvement\, such as A truly democratic system with a directly e
 lected EU president and no abuse of vetoes (ever heard of Hungary’s Orbá
 n?) A truly unified European market without internal trade barriers\, which
  today amount to the equivalent of a 45–110% trade tariff. That would
LOCATION:Rabotpark => Kouter\, Ghent
URL:https://voltbelgium.org/events/march-for-europe
END:VEVENT
END:VCALENDAR
