BEGIN:VCALENDAR
VERSION:2.0
PRODID:-//Volt Europa//Events//EN
CALSCALE:GREGORIAN
METHOD:PUBLISH
BEGIN:VEVENT
UID:lecture-how-to-defend-europe-en-1760547600@voltbelgium.org
DTSTAMP:20260423T111042Z
DTSTART;TZID=Europe/Amsterdam:20251015T190000
DTEND;TZID=Europe/Amsterdam:20251015T220000
SUMMARY:Lecture: How to defend Europe? [EN]
DESCRIPTION:Location Oud vredegerecht\, Ledebergplein 30\, 9050 Ledeberg Ti
 me 19h-22h Access Free Watch the recording of the lecture  here . Review th
 e presentations  here . We're bringing together three experts in the field 
 of European defence. They'll each enlighten us with their expertise for hal
 f an hour. To keep the event maximally accessible and put its international
  character into the spotlight\, the presentations are in English\, though a
 ll speakers are also fluent in Dutch. Shaping Europe's defence: Vo
LOCATION:Oud vredegerecht\, Ledebergplein 30\, 9050 Ledeberg
URL:https://voltbelgium.org/events/lecture-how-to-defend-europe-en
END:VEVENT
END:VCALENDAR
