BEGIN:VCALENDAR
VERSION:2.0
PRODID:-//Volt Europa//Events//EN
CALSCALE:GREGORIAN
METHOD:PUBLISH
BEGIN:VEVENT
UID:gentse-nieuwjaarsreceptie-2026-nlfren-1767376800@voltbelgium.org
DTSTAMP:20260423T120706Z
DTSTART;TZID=Europe/Amsterdam:20260102T190000
DTEND;TZID=Europe/Amsterdam:20260102T235900
SUMMARY:Gentse Nieuwjaarsreceptie 2026 [NL/FR/EN]
DESCRIPTION:Waar Ship & Sip\, Handelsdokkaai 18\, 9000 Gent Uur 19u-24u Toe
 gang Gratis:  iedereen is welkom In 2025 groeide de Oost- & West-Vlaamse Vo
 lt takken uit tot een bloeiende\, actieve beweging. Om het volgende jaar ev
 en succesvol in te zetten\, organiseren we een nieuwjaarsreceptie in Gent. 
 Hierbij nodigen we jullie graag uit voor een gezellig drankje op 2 januari 
 2025.  Iedereen is welkom : leden\, vrienden en sympathisanten. Let op\, di
 t is de nieuwjaarsreceptie voor het lokale Volt Gent. Er is ook de  
LOCATION:Ship & Sip\, Handelsdokkaai 18\, 9000 Gent
URL:https://voltbelgien.org/events/gentse-nieuwjaarsreceptie-2026-nlfren
END:VEVENT
END:VCALENDAR
