BEGIN:VCALENDAR
VERSION:2.0
PRODID:-//Volt Europa//Events//EN
CALSCALE:GREGORIAN
METHOD:PUBLISH
BEGIN:VEVENT
UID:apero-debate-brussels-volt-bxl-2026-ennlfr-1773770400@voltbelgium.org
DTSTAMP:20260423T002324Z
DTSTART;TZID=Europe/Amsterdam:20260317T190000
DTEND;TZID=Europe/Amsterdam:20260317T220000
SUMMARY:Apero-debate Brussels – Volt BXL 2026 [EN/NL/FR]
DESCRIPTION:Ideal introduction to Volt: Apero-debate on the United States o
 f Europe Do you want to make a difference in Brussels with Volt and help sh
 ape our policies? Or would you prefer to get to know Volt Europa or Volt Be
 lgium first? Come along and meet the members of Volt Brussels and beyond in
  a relaxed setting! For this edition\, we have invited Teun Janssens\, a st
 aff member for Volt's Members of the European Parliament. Teun will join us
  for a discussion on how Volt is working for a federal Europe. A
LOCATION:1st floor Café Merlo\, Baksteenkaai 80\, 1000 Brussel
URL:https://voltbelgien.org/events/apero-debate-brussels-volt-bxl-2026-ennl
 fr
END:VEVENT
END:VCALENDAR
