BEGIN:VCALENDAR
VERSION:2.0
PRODID:-//Volt Europa//Events//EN
CALSCALE:GREGORIAN
METHOD:PUBLISH
BEGIN:VEVENT
UID:apero-debat-het-rule-of-law-rapport-met-sophie-in-t-veld-1756917000@vol
 tbelgium.org
DTSTAMP:20260425T125817Z
DTSTART;TZID=Europe/Amsterdam:20250903T183000
DTEND;TZID=Europe/Amsterdam:20250903T210000
SUMMARY:Apero-debate on the Rule of Law with Sophie in 't Veld
DESCRIPTION:🇪🇺⚖️🇧🇪 What did the EU’s Rule of Law Report r
 eveals about Belgium...  The event will be mostly in English\, but feel f
 ree to use French or Dutch if you take the floor. Our next Apéro-debate ex
 plores the rule of law in Europe\, with Belgium as a case study. While conc
 erns about Poland or Hungary often make headlines\, Belgium’s own issues 
 rarely do. The Commission’s Rule of Law Report (24 July 2025) highlights 
 disregard for court judgments\, risks for journalists\, and party financing
  problems.  Sophi
LOCATION:Volt Hub\, Galerie du Cinquantenaire\, Tervurenlaan 32-36\, 1040 E
 tterbeek
URL:https://voltbelgien.org/events/apero-debat-het-rule-of-law-rapport-met-
 sophie-in-t-veld
END:VEVENT
END:VCALENDAR
