BEGIN:VCALENDAR
VERSION:2.0
PRODID:-//Volt Europa//Events//EN
CALSCALE:GREGORIAN
METHOD:PUBLISH
BEGIN:VEVENT
UID:apero-debat-bruxelles-une-ville-belle-une-ville-propre-fr-1759422600@vo
 ltbelgium.org
DTSTAMP:20260423T121052Z
DTSTART;TZID=Europe/Amsterdam:20251002T183000
DTEND;TZID=Europe/Amsterdam:20251002T210000
SUMMARY:Apéro-débat - Bruxelles\, une ville belle\, une ville propre [FR]
DESCRIPTION:🏙🧹✨ "Une ville propre\, une ville belle" Comment coordo
 nner les différents acteurs pour relever ensemble le défi de la propreté
  publique ?  📅 Le 2 octobre 2025\, rejoignez-nous pour un nouvel Apéro-
 Débat\, co-organisé par Volt Brussels et l'association citoyenne Brussel 
 (Pou)belle. 🕡 Accueil à 18h30\, débats de 19h00 à 20h00\, une confér
 ence ouverte à toutes et tous réunira : 👤 Jos Raymenants – Directeur
  Général Adjoint de Bruxelles-Propreté 👤 Geoffroy Kensier – Échevi
 n en charge de la propreté et de
LOCATION:Galerie du Cinquantenaire\, Tervurenlaan 32/36\, 1040 Etterbeek
URL:https://voltbelgium.org/events/apero-debat-bruxelles-une-ville-belle-un
 e-ville-propre-fr
END:VEVENT
END:VCALENDAR
