BEGIN:VCALENDAR
VERSION:2.0
PRODID:-//Volt Europa//Events//EN
CALSCALE:GREGORIAN
METHOD:PUBLISH
BEGIN:VEVENT
UID:antwerpse-lokale-algemene-vergadering-nl-1767898800@voltbelgium.org
DTSTAMP:20260423T114622Z
DTSTART;TZID=Europe/Amsterdam:20260108T200000
DTEND;TZID=Europe/Amsterdam:20260108T220000
SUMMARY:Antwerpse Lokale Algemene Vergadering [NL]
DESCRIPTION:Volt Antwerpen nodigt jullie uit voor zijn volgende Lokale Alge
 mene Vergadering! Wij zoeken kandidaten voor de twee co-voorzitter posities
  voor Volt Antwerpen. Vrouwelijke en diverse Volt leden worden extra aangem
 oedigd om zich kandidaat te stellen. Stuur uw sollicitatie naar  kiescommis
 sie@voltbelgie.org  met  antwerpen@voltbelgium.org  in CC. ‼️Volt-leden
  die stemgerechtigd zijn zullen nog een tweede mail ontvangen met het stemt
 oken.‼️
LOCATION:Café De Zure\, Dageraadplaats 4\, 2018 Antwerpen
URL:https://voltbelgien.org/events/antwerpse-lokale-algemene-vergadering-nl
END:VEVENT
END:VCALENDAR
